BEGIN:VCALENDAR
VERSION:2.0
PRODID:-//wp-events-plugin.com//7.2.3.1//EN
TZID:America/New_York
X-WR-TIMEZONE:America/New_York
BEGIN:VEVENT
UID:19-546@wlcjregion.org
DTSTART;TZID=America/New_York:20260503T083000
DTEND;TZID=America/New_York:20260503T163000
DTSTAMP:20260327T003455Z
URL:https://www.wlcjregion.org/gardenstate/events/gsr-spring-conference-an
 d-installation-of-officers-jewish-latinos-coming-to-america/
SUMMARY:GSR Spring Conference and Installation of Officers: "Jewish Latinos
  - Coming to America"
DESCRIPTION:GSR Spring Conference and Installation of Officers\n\n"Jewish L
 atinos - Coming to America"\nCongregation B’nai Israel\, Millburn\nSunda
 y\, May 3\, 2026\, 8:30 am - 4:30 pm\n\n\nMazel Tov to our Outgoing and In
 coming GSR Boards who will be discharged and installed at our Spring Confe
 rence. Thank them and wish them well with a Tribute to be included in the 
 Spring Conference program. Tributes can be entered using the REGISTRATION 
 FORM below. If you wish to submit more than 3 tributes\, please contact Il
 ene Rothman\, GSR Communications Secretary at&nbsp\;ilene.rothman@verizon.
 net.\n\n Register/Provide Tribute\n\n&nbsp\;
ATTACH;FMTTYPE=image/jpeg:https://www.wlcjregion.org/gardenstate/wp-conten
 t/uploads/sites/19/2026/02/050326-Flyer.png
LOCATION:Congregation B'nai Israel\, 160 Millburn Avenue\, Millburn\, NJ\, 
 07041\, United States
X-APPLE-STRUCTURED-LOCATION;VALUE=URI;X-ADDRESS=160 Millburn Avenue\, Millb
 urn\, NJ\, 07041\, United States;X-APPLE-RADIUS=100;X-TITLE=Congregation B
 'nai Israel:geo:0,0
END:VEVENT
BEGIN:VTIMEZONE
TZID:America/New_York
X-LIC-LOCATION:America/New_York
BEGIN:DAYLIGHT
DTSTART:20260308T030000
TZOFFSETFROM:-0500
TZOFFSETTO:-0400
TZNAME:EDT
END:DAYLIGHT
END:VTIMEZONE
END:VCALENDAR