BEGIN:VCALENDAR
VERSION:2.0
PRODID:-//wp-events-plugin.com//7.2.3.1//EN
BEGIN:VEVENT
UID:10-90@wlcjregion.org
DTSTART:20170326T090000Z
DTEND:20170326T120000Z
DTSTAMP:20170116T220302Z
URL:https://www.wlcjregion.org/nxnw/?event=nxnw-region-online-education-da
 y
SUMMARY:NxNW Region Online Education Day
DESCRIPTION:March 26\, 2017&nbsp\; - 9:00 am to 12:00 noon (PST)\; 10:00 am
  to 1:00 pm (MST)\n\nNxNW Region Education Day\n"From Yentl to Barbra - Je
 wish Women: A Timeline of Success"\nModerator: &nbsp\;Lisa Kogen\, WLCJ Na
 tional Director of Education\n\nDetails on platform and log in information
  will be posted when available.
END:VEVENT
BEGIN:VEVENT
UID:10-247@wlcjregion.org
DTSTART;TZID=America/Los_Angeles;VALUE=DATE:20180729
DTEND;TZID=America/Los_Angeles;VALUE=DATE:20180731
DTSTAMP:20180712T001618Z
URL:https://www.wlcjregion.org/nxnw/?event=leadership-institute
SUMMARY:Leadership Institute
DESCRIPTION:Come to WLCJ's Leadership Institute\n\nRegistration starts at 1
 2 noon on Sunday\n\nInstitute will end around 4 PM on Monday\n\n&nbsp\;\n\
 n&nbsp\;
LOCATION:Congregation Neveh Shalom\, 2900 SW Peaceful Lane\, Portland\, OR\
 , 97239\, United States
GEO:45.4833674;-122.7060424
X-APPLE-STRUCTURED-LOCATION;VALUE=URI;X-ADDRESS=2900 SW Peaceful Lane\, Por
 tland\, OR\, 97239\, United States;X-APPLE-RADIUS=100;X-TITLE=Congregation
  Neveh Shalom:geo:45.4833674,-122.7060424
END:VEVENT
BEGIN:VEVENT
UID:10-312@wlcjregion.org
DTSTART;TZID=America/Vancouver;VALUE=DATE:20191027
DTEND;TZID=America/Vancouver;VALUE=DATE:20191029
DTSTAMP:20190901T210900Z
URL:https://www.wlcjregion.org/nxnw/?event=fall-board-meeting-4
SUMMARY:Fall Board Meeting
DESCRIPTION:Fall board is going to be held in Seattle this year on October 
 27th and 28th. &nbsp\;We will be meeting at Congregation Hertzl Ner Tamid 
 and staying at the&nbsp\;Silver Cloud Hotel in Bellevue\; which is about 4
  miles from the &nbsp\;Synagogue. &nbsp\;NXNW has reserved a block of 10 r
 ooms.&nbsp\; Rate including tax is $136.14 for a room with two double / qu
 een beds.&nbsp\; Our rate is guaranteed until 30 days prior to the event\,
  so attendees should book by September 27.&nbsp\; After September 27\, the
 y'll release our rooms to the general inventory.&nbsp\; Their normal rate 
 is $169 plus 14.4% tax\, or $193.34\, so this is a substantial savings.\n\
 nHere is the registration link:\n\nWLCJN NXNW ONLINE BOOKING\n\nPlease att
 end Fall Board and bring an up and coming board member or board members wi
 th you. &nbsp\;We will have some Scholarship money for first time attendee
 s. &nbsp\;The actual $ amount will depend on how many scholarships are giv
 en out.\nI am talking with Women's League to get a consultant. My topic fo
 r the consultant is Board Building and Succession Planning. &nbsp\;If you 
 have any topics you particularly want discussed please let me know.&nbsp\;
 \n\nThe cost of meals and materials is still being figured out so That wil
 l come out in the official announcement as will the application for a Scho
 larship. &nbsp\;However I wanted to get this information to you now so tha
 t you can reserve your room soon.\n\nRegards\,\n\nWendy
LOCATION:Herzl-Ner Tamid\, 3700 East Mercer Way\, Mercer Island\, Washingto
 n\, 98040\, United States
X-APPLE-STRUCTURED-LOCATION;VALUE=URI;X-ADDRESS=3700 East Mercer Way\, Merc
 er Island\, Washington\, 98040\, United States;X-APPLE-RADIUS=100;X-TITLE=
 Herzl-Ner Tamid:geo:0,0
END:VEVENT
BEGIN:VEVENT
UID:10-427@wlcjregion.org
DTSTART;TZID=America/Chicago;VALUE=DATE:20230716
DTEND;TZID=America/Chicago;VALUE=DATE:20230720
DTSTAMP:20230223T000923Z
URL:https://www.wlcjregion.org/nxnw/?event=wlcj-convention-2023-2
SUMMARY:WLCJ Convention 2023
DESCRIPTION:
LOCATION:Hyatt Regency\,\, 1800 E Gulf Rd\, Schaumburg\, IL\, 60173\, Centr
 al Great Lakes\, United States
X-APPLE-STRUCTURED-LOCATION;VALUE=URI;X-ADDRESS=1800 E Gulf Rd\, Schaumburg
 \, IL\, 60173\, Central Great Lakes\, United States;X-APPLE-RADIUS=100;X-T
 ITLE=Hyatt Regency\,:geo:0,0
END:VEVENT
BEGIN:VEVENT
UID:10-438@wlcjregion.org
DTSTART;TZID=America/Los_Angeles;VALUE=DATE:20240519
DTEND;TZID=America/Los_Angeles;VALUE=DATE:20240521
DTSTAMP:20240307T181555Z
URL:https://www.wlcjregion.org/nxnw/?event=rodeo-of-life-nxnw-region-sprin
 g-conference
SUMMARY:Rodeo of Life- NxNW Region Spring Conference
DESCRIPTION:Save the Date!
LOCATION:Congregation Neveh Shalom\, 2900 SW Peaceful Lane\, Portland\, OR\
 , 97239\, United States
GEO:45.4833674;-122.7060424
X-APPLE-STRUCTURED-LOCATION;VALUE=URI;X-ADDRESS=2900 SW Peaceful Lane\, Por
 tland\, OR\, 97239\, United States;X-APPLE-RADIUS=100;X-TITLE=Congregation
  Neveh Shalom:geo:45.4833674,-122.7060424
END:VEVENT
BEGIN:VEVENT
UID:10-454@wlcjregion.org
DTSTART;TZID=America/Los_Angeles:20241117T110000
DTEND;TZID=America/Los_Angeles:20241117T140000
DTSTAMP:20241108T210443Z
URL:https://www.wlcjregion.org/nxnw/?event=wlcj-speaking-out-empowerment-t
 hrough-resolutions
SUMMARY:WLCJ Speaking Out:  Empowerment Through Resolutions
DESCRIPTION:&nbsp\; &nbsp\; &nbsp\;\n\nRegister Here&nbsp\; https://docs.go
 ogle.com/forms/d/e/1FAIpQLSeJ16vM4nbVHibc6mtvQhg55HrP9xlCUH89ZYaiAPrnfbs8G
 Q/viewform\n\nWhat is A REGION PROGAM ON RESOLUTIONS?\n\n 	Learn about Wom
 en’s League's position on Abortion and Gun Violence\, on Criminal Justic
 e Reform or for that matter\, The Subversive Control Act (1950)\n 	Come to
  hear about how Women’s League gives all of us a voice on important issu
 es\n 	Understand that resolutions can change over time and the modificatio
 ns that have taken place on many Resolutions.\n 	Learn how Women’s Leagu
 e tries to create a united front as our leadership represents the Conserva
 tive Movement at NGO’s (Non Governmental Organizations) of which we are 
 a part.\n 	Find out what we feel are the urgent issues facing women and th
 e Conservative Movement today.\n 	There is a Resolution about Non-Jewish S
 pouses that was written in 1986. It might be interesting to look at how it
  fits for todays environment!\n 	Ask questions\n\n\n\n\n\n\n\n\n&nbsp\;\n\
 n\n\n\n&nbsp\;\n\n\n
END:VEVENT
BEGIN:VTIMEZONE
TZID:America/Los_Angeles
X-LIC-LOCATION:America/Los_Angeles
BEGIN:DAYLIGHT
DTSTART:20180311T030000
TZOFFSETFROM:-0800
TZOFFSETTO:-0700
TZNAME:PDT
END:DAYLIGHT
BEGIN:STANDARD
DTSTART:20181104T010000
TZOFFSETFROM:-0700
TZOFFSETTO:-0800
TZNAME:PST
END:STANDARD
BEGIN:DAYLIGHT
DTSTART:20190310T030000
TZOFFSETFROM:-0800
TZOFFSETTO:-0700
TZNAME:PDT
END:DAYLIGHT
BEGIN:STANDARD
DTSTART:20191103T010000
TZOFFSETFROM:-0700
TZOFFSETTO:-0800
TZNAME:PST
END:STANDARD
BEGIN:DAYLIGHT
DTSTART:20200308T030000
TZOFFSETFROM:-0800
TZOFFSETTO:-0700
TZNAME:PDT
END:DAYLIGHT
BEGIN:STANDARD
DTSTART:20201101T010000
TZOFFSETFROM:-0700
TZOFFSETTO:-0800
TZNAME:PST
END:STANDARD
BEGIN:DAYLIGHT
DTSTART:20210314T030000
TZOFFSETFROM:-0800
TZOFFSETTO:-0700
TZNAME:PDT
END:DAYLIGHT
BEGIN:STANDARD
DTSTART:20211107T010000
TZOFFSETFROM:-0700
TZOFFSETTO:-0800
TZNAME:PST
END:STANDARD
BEGIN:DAYLIGHT
DTSTART:20220313T030000
TZOFFSETFROM:-0800
TZOFFSETTO:-0700
TZNAME:PDT
END:DAYLIGHT
BEGIN:STANDARD
DTSTART:20221106T010000
TZOFFSETFROM:-0700
TZOFFSETTO:-0800
TZNAME:PST
END:STANDARD
BEGIN:DAYLIGHT
DTSTART:20230312T030000
TZOFFSETFROM:-0800
TZOFFSETTO:-0700
TZNAME:PDT
END:DAYLIGHT
BEGIN:STANDARD
DTSTART:20231105T010000
TZOFFSETFROM:-0700
TZOFFSETTO:-0800
TZNAME:PST
END:STANDARD
BEGIN:DAYLIGHT
DTSTART:20240310T030000
TZOFFSETFROM:-0800
TZOFFSETTO:-0700
TZNAME:PDT
END:DAYLIGHT
BEGIN:STANDARD
DTSTART:20241103T010000
TZOFFSETFROM:-0700
TZOFFSETTO:-0800
TZNAME:PST
END:STANDARD
END:VTIMEZONE
BEGIN:VTIMEZONE
TZID:America/Vancouver
X-LIC-LOCATION:America/Vancouver
BEGIN:DAYLIGHT
DTSTART:20190310T030000
TZOFFSETFROM:-0800
TZOFFSETTO:-0700
TZNAME:PDT
END:DAYLIGHT
END:VTIMEZONE
BEGIN:VTIMEZONE
TZID:America/Chicago
X-LIC-LOCATION:America/Chicago
BEGIN:DAYLIGHT
DTSTART:20230312T030000
TZOFFSETFROM:-0600
TZOFFSETTO:-0500
TZNAME:CDT
END:DAYLIGHT
END:VTIMEZONE
END:VCALENDAR