BEGIN:VCALENDAR
VERSION:2.0
PRODID:-//wp-events-plugin.com//7.2.3.1//EN
TZID:America/Los_Angeles
X-WR-TIMEZONE:America/Los_Angeles
BEGIN:VEVENT
UID:11-538@wlcjregion.org
DTSTART;TZID=America/Los_Angeles:20260503T090000
DTEND;TZID=America/Los_Angeles:20260503T153000
DTSTAMP:20260318T214344Z
URL:https://www.wlcjregion.org/pacsw/events/psw-region-conference-2026/
SUMMARY:PSW Region Conference 2026
DESCRIPTION:
ATTACH;FMTTYPE=image/jpeg:https://www.wlcjregion.org/pacsw/wp-content/uplo
 ads/sites/11/2025/11/Dove-1.75-in.jpg
LOCATION:Sheraton Agoura Hills\, 30100 Agoura Road\, Agoura Hills\, Califor
 nia\, 91301\, United States
X-APPLE-STRUCTURED-LOCATION;VALUE=URI;X-ADDRESS=30100 Agoura Road\, Agoura 
 Hills\, California\, 91301\, United States;X-APPLE-RADIUS=100;X-TITLE=Sher
 aton Agoura Hills:geo:0,0
END:VEVENT
BEGIN:VTIMEZONE
TZID:America/Los_Angeles
X-LIC-LOCATION:America/Los_Angeles
BEGIN:DAYLIGHT
DTSTART:20260308T030000
TZOFFSETFROM:-0800
TZOFFSETTO:-0700
TZNAME:PDT
END:DAYLIGHT
END:VTIMEZONE
END:VCALENDAR