BEGIN:VCALENDAR
VERSION:2.0
PRODID:-//wp-events-plugin.com//7.2.3.1//EN
TZID:America/Los_Angeles
X-WR-TIMEZONE:America/Los_Angeles
BEGIN:VEVENT
UID:11-482@wlcjregion.org
DTSTART;TZID=America/New_York:20260712T090000
DTEND;TZID=America/New_York:20260715T210000
DTSTAMP:20251121T193100Z
URL:https://www.wlcjregion.org/pacsw/events/wlcj-international-convention-
 july-2026/
SUMMARY:WLCJ International Convention July 2026
DESCRIPTION:\nWLCJ International Convention\nSave the Date: July 12 - 15\, 
 2026
ATTACH;FMTTYPE=image/jpeg:https://www.wlcjregion.org/pacsw/wp-content/uplo
 ads/sites/11/2025/10/WLCJ-Convention-Logo-20206.jpg
END:VEVENT
BEGIN:VTIMEZONE
TZID:America/New_York
X-LIC-LOCATION:America/New_York
BEGIN:DAYLIGHT
DTSTART:20260308T030000
TZOFFSETFROM:-0500
TZOFFSETTO:-0400
TZNAME:EDT
END:DAYLIGHT
END:VTIMEZONE
END:VCALENDAR